BEGIN:VCALENDAR
VERSION:2.0
PRODID:-//Plone.org//NONSGML plone.app.event//EN
X-WR-TIMEZONE:America/Sao_Paulo
BEGIN:VEVENT
SUMMARY:Dia do Trabalho
DTSTART;VALUE=DATE:20200501
DTEND;VALUE=DATE:20200502
DTSTAMP;VALUE=DATE-TIME:20260426T004658Z
UID:ae606e4ce51c4aaf8a45d3357a5852d1@itaporanga.sp.leg.br
CREATED;VALUE=DATE-TIME:20200909T152652Z
LAST-MODIFIED;VALUE=DATE-TIME:20251101T202413Z
RRULE:FREQ=YEARLY;COUNT=1000;BYMONTHDAY=1;BYMONTH=5
URL:https://www.itaporanga.sp.leg.br/institucional/eventos/feriados/dia-do
 -trabalho
END:VEVENT
END:VCALENDAR
